BEGIN:VCALENDAR
VERSION:2.0
PRODID:-//eventon.com NONSGML v1.0//EN
CALSCALE:GREGORIAN
METHOD:PUBLISH
BEGIN:VEVENT
UID:69e997fd05ce3
DTSTAMP:20260423T035437Z
DTSTART:20191112
DTEND:20191113
LOCATION:Orchaise
SUMMARY:2019
DESCRIPTION:15.12.2019 CIRCUITS DIMANCHE\nhttps://www.aslo-cyclo.fr/events/
 2019-50/
URL:https://www.aslo-cyclo.fr/events/2019-50/
END:VEVENT
END:VCALENDAR