BEGIN:VCALENDAR
VERSION:2.0
PRODID:-//eventon.com NONSGML v1.0//EN
CALSCALE:GREGORIAN
METHOD:PUBLISH
BEGIN:VEVENT
UID:69e9d560ea146
DTSTAMP:20260423T081632Z
DTSTART:20260314
DTEND:20260315
LOCATION:
SUMMARY:14 mars
DESCRIPTION:SEMAINE 11 SAM. 30 KM ET 54 KM\nhttps://www.aslo-cyclo.fr/event
 s/14-mars/
URL:https://www.aslo-cyclo.fr/events/14-mars/
END:VEVENT
END:VCALENDAR