BEGIN:VCALENDAR
VERSION:2.0
PRODID:-//eventon.com NONSGML v1.0//EN
CALSCALE:GREGORIAN
METHOD:PUBLISH
BEGIN:VEVENT
UID:69e9d506a29a5
DTSTAMP:20260423T081502Z
DTSTART:20260627T143000Z
DTEND:20260627T235900Z
LOCATION:
SUMMARY:27 juin
DESCRIPTION:SEMAINE 26 SAM. 49 KM ET 77 KM\nhttps://www.aslo-cyclo.fr/event
 s/27-juin/
URL:https://www.aslo-cyclo.fr/events/27-juin/
END:VEVENT
END:VCALENDAR