BEGIN:VCALENDAR
VERSION:2.0
PRODID:-//eventon.com NONSGML v1.0//EN
CALSCALE:GREGORIAN
METHOD:PUBLISH
BEGIN:VEVENT
UID:69e9d7872b8bb
DTSTAMP:20260423T082543Z
DTSTART:20260912T143000Z
DTEND:20260912T235900Z
LOCATION:
SUMMARY:12 SEPTEMBRE
DESCRIPTION:SEMAINE 37 SAM. 50 KM\nhttps://www.aslo-cyclo.fr/events/12-sept
 embre/
URL:https://www.aslo-cyclo.fr/events/12-septembre/
END:VEVENT
END:VCALENDAR