BEGIN:VCALENDAR
VERSION:2.0
PRODID:-//eventon.com NONSGML v1.0//EN
CALSCALE:GREGORIAN
METHOD:PUBLISH
BEGIN:VEVENT
UID:69e9d560eb5bb
DTSTAMP:20260423T081632Z
DTSTART:20260920T080000Z
DTEND:20260920T235900Z
LOCATION:
SUMMARY:20 SEPTEMBRE
DESCRIPTION:SEMAINE 38 DIM. 77.5 KM\nhttps://www.aslo-cyclo.fr/events/20-se
 ptembre/
URL:https://www.aslo-cyclo.fr/events/20-septembre/
END:VEVENT
END:VCALENDAR