BEGIN:VCALENDAR
VERSION:2.0
PRODID:-//eventon.com NONSGML v1.0//EN
CALSCALE:GREGORIAN
METHOD:PUBLISH
BEGIN:VEVENT
UID:69e9d4ef58a53
DTSTAMP:20260423T081439Z
DTSTART:20261017T143000Z
DTEND:20261017T235900Z
LOCATION:
SUMMARY:17 OCTOBRE
DESCRIPTION:SEMAINE 42 SAM. 38 KM\nhttps://www.aslo-cyclo.fr/events/17-octo
 bre/
URL:https://www.aslo-cyclo.fr/events/17-octobre/
END:VEVENT
END:VCALENDAR