BEGIN:VCALENDAR
VERSION:2.0
PRODID:-//eventon.com NONSGML v1.0//EN
CALSCALE:GREGORIAN
METHOD:PUBLISH
BEGIN:VEVENT
UID:69e9d4a8bed3b
DTSTAMP:20260423T081328Z
DTSTART:20261018T090000Z
DTEND:20261018T235900Z
LOCATION:
SUMMARY:18 OCTOBRE
DESCRIPTION:SEMAINE 42 DIM. 61 KM\nhttps://www.aslo-cyclo.fr/events/18-octo
 bre/
URL:https://www.aslo-cyclo.fr/events/18-octobre/
END:VEVENT
END:VCALENDAR